BEGIN:VCALENDAR
VERSION:2.0
PRODID:-//eventon.com NONSGML v1.0//EN
CALSCALE:GREGORIAN
METHOD:PUBLISH
BEGIN:VEVENT
UID:69e5f1c3ae6df
DTSTAMP:20260420T092835Z
DTSTART:20220831T020000Z
DTEND:20220831T050000Z
LOCATION:State Farm Stadium 1 Cardinals Dr
SUMMARY:The Weeknd
DESCRIPTION:The Weeknd is heading out on the After Hours til Dawn Tour with
  special guests Kaytranada and Mike Dean on August 30 at State Farm Stadium
 ! Tickets on sale now at Livenation.com &nbsp;\nhttps://power983.com/events
 /the-weeknd/
URL:https://power983.com/events/the-weeknd/
END:VEVENT
END:VCALENDAR