BEGIN:VCALENDAR
VERSION:2.0
PRODID:-//eventon.com NONSGML v1.0//EN
CALSCALE:GREGORIAN
METHOD:PUBLISH
BEGIN:VEVENT
UID:69e9e22348b1a
DTSTAMP:20260423T091059Z
DTSTART:20230114T180000Z
DTEND:20230115T230000Z
LOCATION:Arizona Financial Theatre 400 W Washington St\, 
SUMMARY:Bluey’s Big Play
DESCRIPTION:Bluey’s Big Play is making its way to Arizona January 14-15\,
   2023 (4 shows) at The Arizona Financial Theatre. Don’t miss @OfficialBl
 ueyTV January 14-15\,  2023 at Arizona Financial Theatre. #BlueysBigPlay is
  a brand-new theatrical adaptation of the Emmy® award-winning children’s
  television series. Tickets are on sale now! Ticket link: https://www.ticke
 tmaster.com/venue/204807?attractionId=2726558[..]\nhttps://power983.com/eve
 nts/blueys-big-play/
URL:https://power983.com/events/blueys-big-play/
END:VEVENT
END:VCALENDAR