BEGIN:VCALENDAR
VERSION:2.0
PRODID:-//eventon.com NONSGML v1.0//EN
CALSCALE:GREGORIAN
METHOD:PUBLISH
BEGIN:VEVENT
UID:69e84d60ccebb
DTSTAMP:20260422T042400Z
DTSTART:20240824T030000Z
DTEND:20240824T063000Z
LOCATION:Marquee Theatre 730 N. Mill Avenue
SUMMARY:Ice Spice
DESCRIPTION:Don&#8217;t miss Ice Spice on her Y2K! World Tour with Cash Cob
 ain &amp; RIOTUSA on Friday\,  August 23rd at Marquee Theatre! Click here f
 or ticket information.\nhttps://power983.com/events/ice-spice/
URL:https://power983.com/events/ice-spice/
END:VEVENT
END:VCALENDAR