BEGIN:VCALENDAR
VERSION:2.0
PRODID:-//eventon.com NONSGML v1.0//EN
CALSCALE:GREGORIAN
METHOD:PUBLISH
BEGIN:VEVENT
UID:69eb5a5a0e2a6
DTSTAMP:20260424T115610Z
DTSTART:20241130T220000Z
DTEND:20241201T060000Z
LOCATION:Wild Horse Pass Festival Grounds 19593 S 48th St\,  Chandler\,  AZ 85226
SUMMARY:West Coast Music Festival
DESCRIPTION:Power 98.3 presents West Coast Fest with The Game\,  DJ Quik\, 
  MC Magic\,  Baby Bash\,  Paula DeAnda\,  Suga Free\,  King Lil G\,  Outlaw
 z\,  and Malaynah on Saturday\,  November 30th at Wild Horse Pass Festival 
 Grounds! Enjoy live artist performances\,  lowrider car &amp; truck show\, 
  live tattoo artists\,  food trucks\,  local[..]\nhttps://power983.com/even
 ts/west-coast-music-festival/
URL:https://power983.com/events/west-coast-music-festival/
END:VEVENT
END:VCALENDAR