BEGIN:VCALENDAR
VERSION:2.0
PRODID:-//eventon.com NONSGML v1.0//EN
CALSCALE:GREGORIAN
METHOD:PUBLISH
BEGIN:VEVENT
UID:69e735f50389a
DTSTAMP:20260421T083149Z
DTSTART:20250215T160000Z
DTEND:20250217T000000Z
LOCATION:Musical Instrument Musuem 4725 E. Mayo Blvd. Phoenix\,  AZ 85050
SUMMARY:Celebrate Hip Hop
DESCRIPTION:Learn about the roots of hip hop through interactive DJ worksho
 ps and live break dancing with the iconic Furious Styles Crew. Supported by
  the Furious Styles Crew Programming supported in part by the Phoenix Offic
 e of Arts and Culture and Arizona Commission on the Arts All activities hap
 pen on Saturday[..]\nhttps://power983.com/events/celebrate-hip-hop/
URL:https://power983.com/events/celebrate-hip-hop/
END:VEVENT
END:VCALENDAR