BEGIN:VCALENDAR
VERSION:2.0
PRODID:-//eventon.com NONSGML v1.0//EN
CALSCALE:GREGORIAN
METHOD:PUBLISH
BEGIN:VEVENT
UID:69e9533c0efcb
DTSTAMP:20260422T230116Z
DTSTART:20261004T190000Z
DTEND:20261004T220000Z
LOCATION:Talking Stick Resort Amphitheatre 2121 N 83rd Ave
SUMMARY:Wu- Tang
DESCRIPTION:Wu-Tang returns for THE FINAL CHAMBER! Bringing history to Talk
 ing Stick Resort Amphitheatre on October 4th with special guest Bone Thugs-
 N-Harmony! Click here for ticket information\nhttps://power983.com/events/w
 u-tang/
URL:https://power983.com/events/wu-tang/
END:VEVENT
END:VCALENDAR