BEGIN:VCALENDAR
VERSION:2.0
PRODID:-//eventon.com NONSGML v1.0//EN
CALSCALE:GREGORIAN
METHOD:PUBLISH
BEGIN:VEVENT
UID:69e9553e0f254
DTSTAMP:20260422T230950Z
DTSTART:20261007T190000Z
DTEND:20261007T220000Z
LOCATION:Talking Stick Resort Amphitheatre 2121 N 83rd Ave
SUMMARY:TLC & Salt-N-Pepa with En Vogue
DESCRIPTION:JUST ANNOUNCED!  TLC &amp; Salt-N-Pepa with En Vogue &#8211; I
 T&#8217;S ICONIC at Talking Stick Resort Amphitheatre on October 7! Click h
 ere for ticket information.\nhttps://power983.com/events/tlc-salt-n-pepa-wi
 th-en-vogue/
URL:https://power983.com/events/tlc-salt-n-pepa-with-en-vogue/
END:VEVENT
END:VCALENDAR