BEGIN:VCALENDAR
VERSION:2.0
PRODID:-//eventon.com NONSGML v1.0//EN
CALSCALE:GREGORIAN
METHOD:PUBLISH
BEGIN:VEVENT
UID:69e953d7de0f6
DTSTAMP:20260422T230351Z
DTSTART:20261008T190000Z
DTEND:20261008T220000Z
LOCATION:Talking Stick Resort Amphitheatre 2121 N 83rd Ave
SUMMARY:$UICIDEBOY$\,  SHORELINE MAFIA\,  SHAKEWELL\,  DRAIN\,  BLACK KRAY & $LIM GUCCI.
DESCRIPTION:Grey Day 2026 is coming to Talking Stick Resort Amphitheatre on
  October 8!  $UICIDEBOY$\,  SHORELINE MAFIA\,  SHAKEWELL\,  DRAIN\,  BLACK
  KRAY &amp; $LIM GUCCI. Click here for ticket information. &nbsp;\nhttps://
 power983.com/events/uicideboy-shoreline-mafia-shakewell-drain-black-kray-li
 m-gucci/
URL:https://power983.com/events/uicideboy-shoreline-mafia-shakewell-drain-black-kray-lim-gucci/
END:VEVENT
END:VCALENDAR