BEGIN:VCALENDAR
VERSION:2.0
PRODID:-//eventon.com NONSGML v1.0//EN
CALSCALE:GREGORIAN
METHOD:PUBLISH
BEGIN:VEVENT
UID:69e9e2b1a4773
DTSTAMP:20260423T091321Z
DTSTART:20261018T190000Z
DTEND:20261018T220000Z
LOCATION:Mortgage Matchup Center (formerly PHX Arena) 201 East Jefferson Street\,  Phoenix\,  AZ 85004
SUMMARY:Young Miko
DESCRIPTION:Young Miko is taking over Mortgage Matchup Center on October 18
 th for his Late Checkout Tour. Click here for ticket information.\nhttps://
 power983.com/events/young-miko/
URL:https://power983.com/events/young-miko/
END:VEVENT
END:VCALENDAR